0.15000000000000
0.00000000000000
0.00000000000000
-0.15000000000000
510750.07500000001164
4945499.92499999981374
