0.15000000000000
0.00000000000000
0.00000000000000
-0.15000000000000
507750.07500000001164
4913999.92499999981374
