0.15000000000000
0.00000000000000
0.00000000000000
-0.15000000000000
506250.07500000001164
4910249.92499999981374
