0.15000000000000
0.00000000000000
0.00000000000000
-0.15000000000000
504000.07500000001164
4924499.92499999981374
