0.15000000000000
0.00000000000000
0.00000000000000
-0.15000000000000
549000.07499999995343
4892999.92499999981374
