0.15000000000000
0.00000000000000
0.00000000000000
-0.15000000000000
546000.07499999995343
4894499.92499999981374
