0.15000000000000
0.00000000000000
0.00000000000000
-0.15000000000000
535500.07499999995343
4887749.92499999981374
