0.15000000000000
0.00000000000000
0.00000000000000
-0.15000000000000
534000.07499999995343
4893749.92499999981374
