0.15000000000000
0.00000000000000
0.00000000000000
-0.15000000000000
531750.07499999995343
4889249.92499999981374
