0.15000000000000
0.00000000000000
0.00000000000000
-0.15000000000000
531000.07499999995343
4900499.92499999981374
