0.15000000000000
0.00000000000000
0.00000000000000
-0.15000000000000
528750.07499999995343
4879499.92499999981374
