0.15000000000000
0.00000000000000
0.00000000000000
-0.15000000000000
528000.07499999995343
4875749.92499999981374
