0.15000000000000
0.00000000000000
0.00000000000000
-0.15000000000000
525750.07499999995343
4880999.92499999981374
