0.15000000000000
0.00000000000000
0.00000000000000
-0.15000000000000
519750.07500000001164
4896749.92499999981374
