0.15000000000000
0.00000000000000
0.00000000000000
-0.15000000000000
517500.07500000001164
4898249.92499999981374
