0.15000000000000
0.00000000000000
0.00000000000000
-0.15000000000000
511500.07500000001164
4886249.92499999981374
