0.15000000000000
0.00000000000000
0.00000000000000
-0.15000000000000
510000.07500000001164
4855499.92499999981374
