0.15000000000000
0.00000000000000
0.00000000000000
-0.15000000000000
495750.07500000001164
4921499.92499999981374
