0.15000000000000
0.00000000000000
0.00000000000000
-0.15000000000000
489000.07500000001164
4871249.92499999981374
