0.15000000000000
0.00000000000000
0.00000000000000
-0.15000000000000
471000.07500000001164
4879499.92499999981374
