0.15000000000000
0.00000000000000
0.00000000000000
-0.15000000000000
458250.07500000001164
4874249.92499999981374
