0.15000000000000
0.00000000000000
0.00000000000000
-0.15000000000000
455250.07500000001164
4867499.92499999981374
