0.15000000000000
0.00000000000000
0.00000000000000
-0.15000000000000
453750.07500000001164
4860749.92499999981374
