0.15000000000000
0.00000000000000
0.00000000000000
-0.15000000000000
438750.07500000001164
4840499.92499999981374
