0.15000000000000
0.00000000000000
0.00000000000000
-0.15000000000000
438000.07500000001164
4893749.92499999981374
