0.15000000000000
0.00000000000000
0.00000000000000
-0.15000000000000
438000.07500000001164
4853249.92499999981374
