0.15000000000000
0.00000000000000
0.00000000000000
-0.15000000000000
436500.07500000001164
4850999.92499999981374
