0.15000000000000
0.00000000000000
0.00000000000000
-0.15000000000000
435750.07500000001164
4889249.92499999981374
