0.15000000000000
0.00000000000000
0.00000000000000
-0.15000000000000
429000.07500000001164
4870499.92499999981374
