0.15000000000000
0.00000000000000
0.00000000000000
-0.15000000000000
426750.07500000001164
4862249.92499999981374
