0.15000000000000
0.00000000000000
0.00000000000000
-0.15000000000000
423750.07500000001164
4841999.92499999981374
