0.15000000000000
0.00000000000000
0.00000000000000
-0.15000000000000
422250.07500000001164
4858499.92499999981374
