0.15000000000000
0.00000000000000
0.00000000000000
-0.15000000000000
396000.07500000001164
4835999.92499999981374
