0.15000000000000
0.00000000000000
0.00000000000000
-0.15000000000000
396000.07500000001164
4833749.92499999981374
