0.15000000000000
0.00000000000000
0.00000000000000
-0.15000000000000
389250.07500000001164
4810499.92499999981374
