0.15000000000000
0.00000000000000
0.00000000000000
-0.15000000000000
387000.07500000001164
4814999.92499999981374
