0.15000000000000
0.00000000000000
0.00000000000000
-0.15000000000000
320250.07500000001164
4604249.92499999981374
