0.15000000000000
0.00000000000000
0.00000000000000
-0.15000000000000
318750.07500000001164
4611749.92499999981374
