0.15000000000000
0.00000000000000
0.00000000000000
-0.15000000000000
316500.07500000001164
4606499.92499999981374
