0.15000000000000
0.00000000000000
0.00000000000000
-0.15000000000000
304500.07500000001164
4625999.92499999981374
