0.15000000000000
0.00000000000000
0.00000000000000
-0.15000000000000
302250.07500000001164
4622249.92499999981374
