0.15000000000000
0.00000000000000
0.00000000000000
-0.15000000000000
301500.07500000001164
4603499.92499999981374
