0.15000000000000
0.00000000000000
0.00000000000000
-0.15000000000000
306750.07500000001164
4595999.92499999981374
