0.15000000000000
0.00000000000000
0.00000000000000
-0.15000000000000
303000.07500000001164
4594499.92499999981374
