0.15000000000000
0.00000000000000
0.00000000000000
-0.15000000000000
297750.07500000001164
4621499.92499999981374
