0.15000000000000
0.00000000000000
0.00000000000000
-0.15000000000000
296250.07500000001164
4601249.92499999981374
