0.15000000000000
0.00000000000000
0.00000000000000
-0.15000000000000
294750.07500000001164
4608749.92499999981374
