0.15000000000000
0.00000000000000
0.00000000000000
-0.15000000000000
299250.07500000001164
4598249.92499999981374
