0.15000000000000
0.00000000000000
0.00000000000000
-0.15000000000000
293250.07500000001164
4595249.92499999981374
