0.15000000000000
0.00000000000000
0.00000000000000
-0.15000000000000
292500.07500000001164
4592249.92499999981374
